Workbook

Sheet Sheet1
A1: 附件1
A2: 铜仁市第三人民医院2026年编外工作人员公开招聘面试成绩公示
A3: 序号 | B3: 姓名 | C3: 岗位代码 | D3: 报考岗位 | E3: 面试成绩 | F3: 备注
A4: 1 | B4: 郑璐 | C4: 01 | D4: 精神科医生 | E4: =VLOOKUP(B4,[1]第一考场!B$1:G$65536,6,0) -> 85.5
A5: 2 | B5: 余文芳 | C5: 01 | D5: 精神科医生 | E5: =VLOOKUP(B5,[1]第一考场!B$1:G$65536,6,0) -> 83
A6: 3 | B6: 杨进芝 | C6: 01 | D6: 精神科医生 | E6: =VLOOKUP(B6,[1]第一考场!B$1:G$65536,6,0) -> 79
A7: 4 | B7: 毛明权 | C7: 01 | D7: 精神科医生 | E7: =VLOOKUP(B7,[1]第一考场!B$1:G$65536,6,0) -> 78.17
A8: 5 | B8: 曾红梅 | C8: 01 | D8: 精神科医生 | E8: =VLOOKUP(B8,[1]第一考场!B$1:G$65536,6,0) -> 76.5
A9: 6 | B9: 杨通状 | C9: 01 | D9: 精神科医生 | E9: =VLOOKUP(B9,[1]第一考场!B$1:G$65536,6,0) -> 74.83
A10: 7 | B10: 谢永琴 | C10: 01 | D10: 精神科医生 | E10: =VLOOKUP(B10,[1]第一考场!B$1:G$65536,6,0) -> 61
A11: 8 | B11: 田亚 | C11: 02 | D11: 中医医生 | E11: =VLOOKUP(B11,[1]第一考场!B$1:G$65536,6,0) -> 76.83
A12: 9 | B12: 代钟宝 | C12: 03 | D12: 影像医生 | E12: =VLOOKUP(B12,[1]第一考场!B$1:G$65536,6,0) -> 80.5
A13: 10 | B13: 金超 | C13: 03 | D13: 影像医生 | E13: =VLOOKUP(B13,[1]第一考场!B$1:G$65536,6,0) -> 80.33
A14: 11 | B14: 刘瑶涛 | C14: 03 | D14: 影像医生 | E14: =VLOOKUP(B14,[1]第一考场!B$1:G$65536,6,0) -> 78.17
A15: 12 | B15: 罗贤伟 | C15: 03 | D15: 影像医生 | E15: =VLOOKUP(B15,[1]第一考场!B$1:G$65536,6,0) -> 78
... A24: 21 | B24: 刘先燕 | C24: 04 | D24: 护理岗 | E24: =VLOOKUP(B24,[1]第一考场!B$1:G$65536,6,0) -> 67.77
A25: 22 | B25: 杨莉 | C25: 04 | D25: 护理岗 | E25: 缺考
A26: 23 | B26: 雷秀群 | C26: 04 | D26: 护理岗 | E26: 缺考
A27: 24 | B27: 刘松林 | C27: 05 | D27: 精神科 男护士 | E27: =VLOOKUP(B27,[1]第一考场!B$1:G$65536,6,0) -> 79.64
A28: 25 | B28: 席松 | C28: 05 | D28: 精神科 男护士 | E28: =VLOOKUP(B28,[1]第一考场!B$1:G$65536,6,0) -> 78.02
A29: 26 | B29: 余奥运 | C29: 05 | D29: 精神科 男护士 | E29: =VLOOKUP(B29,[1]第一考场!B$1:G$65536,6,0) -> 77.87
A30: 27 | B30: 李晶 | C30: 05 | D30: 精神科 男护士 | E30: =VLOOKUP(B30,[1]第一考场!B$1:G$65536,6,0) -> 75.83
A31: 28 | B31: 许浪 | C31: 05 | D31: 精神科 男护士 | E31: =VLOOKUP(B31,[1]第一考场!B$1:G$65536,6,0) -> 75.43
A32: 29 | B32: 林尧 | C32: 05 | D32: 精神科 男护士 | E32: =VLOOKUP(B32,[1]第一考场!B$1:G$65536,6,0) -> 75.13
A33: 30 | B33: 何康 | C33: 05 | D33: 精神科 男护士 | E33: =VLOOKUP(B33,[1]第一考场!B$1:G$65536,6,0) -> 75.12
A34: 31 | B34: 李龙超 | C34: 05 | D34: 精神科 男护士 | E34: =VLOOKUP(B34,[1]第一考场!B$1:G$65536,6,0) -> 73.88
A35: 32 | B35: 熊涛 | C35: 05 | D35: 精神科 男护士 | E35: =VLOOKUP(B35,[1]第一考场!B$1:G$65536,6,0) -> 73.78
A36: 33 | B36: 杨泽江 | C36: 05 | D36: 精神科 男护士 | E36: =VLOOKUP(B36,[1]第一考场!B$1:G$65536,6,0) -> 73.34
A37: 34 | B37: 杨通跃 | C37: 05 | D37: 精神科 男护士 | E37: =VLOOKUP(B37,[1]第一考场!B$1:G$65536,6,0) -> 72.61
A38: 35 | B38: 冯伟 | C38: 05 | D38: 精神科 男护士 | E38: =VLOOKUP(B38,[1]第一考场!B$1:G$65536,6,0) -> 71.73
... A79: 76 | B79: 王双亚 | C79: 05 | D79: 精神科 男护士 | E79: =VLOOKUP(B79,[1]第一考场!B$1:G$65536,6,0) -> 46.67
A80: 77 | B80: 杨克胜 | C80: 05 | D80: 精神科 男护士 | E80: 缺考
A81: 78 | B81: 王飞 | C81: 05 | D81: 精神科 男护士 | E81: 缺考
A82: 79 | B82: 聂鑫 | C82: 05 | D82: 精神科 男护士 | E82: 缺考
A83: 80 | B83: 杨浩然 | C83: 05 | D83: 精神科 男护士 | E83: 缺考
A84: 81 | B84: 罗家斌 | C84: 05 | D84: 精神科 男护士 | E84: 缺考
A85: 82 | B85: 李继 | C85: 05 | D85: 精神科 男护士 | E85: 缺考
A86: 83 | B86: 武伟 | C86: 05 | D86: 精神科 男护士 | E86: 缺考
A87: 84 | B87: 谢忠华 | C87: 05 | D87: 精神科 男护士 | E87: 缺考
A88: 85 | B88: 申吉甫 | C88: 05 | D88: 精神科 男护士 | E88: 缺考
...
