Workbook

Sheet Sheet1
A1: 附件1
A2: 铜仁市第三人民医院2026年编外工作人员公开招聘面试成绩公示
A3: 序号 | B3: 姓名 | C3: 岗位代码 | D3: 报考岗位 | E3: 面试成绩 | F3: 备注
A4: 1 | B4: 郑璐 | C4: 01 | D4: 精神科医生 | E4: =VLOOKUP(B4,[1]第一考场!B$1:G$65536,6,0) -> 85.5
A5: 2 | B5: 余文芳 | C5: 01 | D5: 精神科医生 | E5: =VLOOKUP(B5,[1]第一考场!B$1:G$65536,6,0) -> 83
A6: 3 | B6: 杨进芝 | C6: 01 | D6: 精神科医生 | E6: =VLOOKUP(B6,[1]第一考场!B$1:G$65536,6,0) -> 79
A7: 4 | B7: 毛明权 | C7: 01 | D7: 精神科医生 | E7: =VLOOKUP(B7,[1]第一考场!B$1:G$65536,6,0) -> 78.17
A8: 5 | B8: 曾红梅 | C8: 01 | D8: 精神科医生 | E8: =VLOOKUP(B8,[1]第一考场!B$1:G$65536,6,0) -> 76.5
A9: 6 | B9: 杨通状 | C9: 01 | D9: 精神科医生 | E9: =VLOOKUP(B9,[1]第一考场!B$1:G$65536,6,0) -> 74.83
A10: 7 | B10: 谢永琴 | C10: 01 | D10: 精神科医生 | E10: =VLOOKUP(B10,[1]第一考场!B$1:G$65536,6,0) -> 61
A11: 8 | B11: 田亚 | C11: 02 | D11: 中医医生 | E11: =VLOOKUP(B11,[1]第一考场!B$1:G$65536,6,0) -> 76.83
A12: 9 | B12: 代钟宝 | C12: 03 | D12: 影像医生 | E12: =VLOOKUP(B12,[1]第一考场!B$1:G$65536,6,0) -> 80.5
A13: 10 | B13: 金超 | C13: 03 | D13: 影像医生 | E13: =VLOOKUP(B13,[1]第一考场!B$1:G$65536,6,0) -> 80.33
A14: 11 | B14: 刘瑶涛 | C14: 03 | D14: 影像医生 | E14: =VLOOKUP(B14,[1]第一考场!B$1:G$65536,6,0) -> 78.17
A15: 12 | B15: 罗贤伟 | C15: 03 | D15: 影像医生 | E15: =VLOOKUP(B15,[1]第一考场!B$1:G$65536,6,0) -> 78
... A24: 21 | B24: 刘先燕 | C24: 04 | D24: 护理岗 | E24: =VLOOKUP(B24,[1]第一考场!B$1:G$65536,6,0) -> 67.77
A25: 22 | B25: 杨莉 | C25: 04 | D25: 护理岗 | E25: 缺考
A26: 23 | B26: 雷秀群 | C26: 04 | D26: 护理岗 | E26: 缺考
A27: 24 | B27: 刘松林 | C27: 05 | D27: 精神科 男护士 | E27: =VLOOKUP(B27,[1]第一考场!B$1:G$65536,6,0) -> 79.64
A28: 25 | B28: 席松 | C28: 05 | D28: 精神科 男护士 | E28: =VLOOKUP(B28,[1]第一考场!B$1:G$65536,6,0) -> 78.02
A29: 26 | B29: 余奥运 | C29: 05 | D29: 精神科 男护士 | E29: =VLOOKUP(B29,[1]第一考场!B$1:G$65536,6,0) -> 77.87
A30: 27 | B30: 李晶 | C30: 05 | D30: 精神科 男护士 | E30: =VLOOKUP(B30,[1]第一考场!B$1:G$65536,6,0) -> 75.83
A31: 28 | B31: 许浪 | C31: 05 | D31: 精神科 男护士 | E31: =VLOOKUP(B31,[1]第一考场!B$1:G$65536,6,0) -> 75.43
A32: 29 | B32: 林尧 | C32: 05 | D32: 精神科 男护士 | E32: =VLOOKUP(B32,[1]第一考场!B$1:G$65536,6,0) -> 75.13
A33: 30 | B33: 何康 | C33: 05 | D33: 精神科 男护士 | E33: =VLOOKUP(B33,[1]第一考场!B$1:G$65536,6,0) -> 75.12
A34: 31 | B34: 李龙超 | C34: 05 | D34: 精神科 男护士 | E34: =VLOOKUP(B34,[1]第一考场!B$1:G$65536,6,0) -> 73.88
A35: 32 | B35: 熊涛 | C35: 05 | D35: 精神科 男护士 | E35: =VLOOKUP(B35,[1]第一考场!B$1:G$65536,6,0) -> 73.78
A36: 33 | B36: 杨泽江 | C36: 05 | D36: 精神科 男护士 | E36: =VLOOKUP(B36,[1]第一考场!B$1:G$65536,6,0) -> 73.34
A37: 34 | B37: 杨通跃 | C37: 05 | D37: 精神科 男护士 | E37: =VLOOKUP(B37,[1]第一考场!B$1:G$65536,6,0) -> 72.61
A38: 35 | B38: 冯伟 | C38: 05 | D38: 精神科 男护士 | E38: =VLOOKUP(B38,[1]第一考场!B$1:G$65536,6,0) -> 71.73
... A79: 76 | B79: 王双亚 | C79: 05 | D79: 精神科 男护士 | E79: =VLOOKUP(B79,[1]第一考场!B$1:G$65536,6,0) -> 46.67
A80: 77 | B80: 杨克胜 | C80: 05 | D80: 精神科 男护士 | E80: 缺考
A81: 78 | B81: 王飞 | C81: 05 | D81: 精神科 男护士 | E81: 缺考
A82: 79 | B82: 聂鑫 | C82: 05 | D82: 精神科 男护士 | E82: 缺考
A83: 80 | B83: 杨浩然 | C83: 05 | D83: 精神科 男护士 | E83: 缺考
A84: 81 | B84: 罗家斌 | C84: 05 | D84: 精神科 男护士 | E84: 缺考
A85: 82 | B85: 李继 | C85: 05 | D85: 精神科 男护士 | E85: 缺考
A86: 83 | B86: 武伟 | C86: 05 | D86: 精神科 男护士 | E86: 缺考
A87: 84 | B87: 谢忠华 | C87: 05 | D87: 精神科 男护士 | E87: 缺考
A88: 85 | B88: 申吉甫 | C88: 05 | D88: 精神科 男护士 | E88: 缺考
A89: 86 | B89: 林禹标 | C89: 05 | D89: 精神科 男护士 | E89: 缺考
A90: 87 | B90: 穆小龙 | C90: 05 | D90: 精神科 男护士 | E90: 缺考
A91: 88 | B91: 朱泽补 | C91: 05 | D91: 精神科 男护士 | E91: 缺考
A92: 89 | B92: 饶彬阐 | C92: 06 | D92: 检验技术岗 | E92: =VLOOKUP(B92,[1]第一考场!B$1:G$65536,6,0) -> 83.88
A93: 90 | B93: 谭梦琴 | C93: 06 | D93: 检验技术岗 | E93: =VLOOKUP(B93,[1]第一考场!B$1:G$65536,6,0) -> 82.1
A94: 91 | B94: 吴墨涵 | C94: 06 | D94: 检验技术岗 | E94: =VLOOKUP(B94,[1]第一考场!B$1:G$65536,6,0) -> 75.66
A95: 92 | B95: 文祖益 | C95: 06 | D95: 检验技术岗 | E95: =VLOOKUP(B95,[1]第一考场!B$1:G$65536,6,0) -> 75.47
A96: 93 | B96: 段舟雪 | C96: 06 | D96: 检验技术岗 | E96: =VLOOKUP(B96,[1]第一考场!B$1:G$65536,6,0) -> 45.17
A97: 94 | B97: 杨忠优 | C97: 07 | D97: 药房工作人员 | E97: =VLOOKUP(B97,[1]第一考场!B$1:G$65536,6,0) -> 76.17
A98: 95 | B98: 田清林 | C98: 07 | D98: 药房工作人员 | E98: =VLOOKUP(B98,[1]第一考场!B$1:G$65536,6,0) -> 74.57
A99: 96 | B99: 黄灿 | C99: 07 | D99: 药房工作人员 | E99: =VLOOKUP(B99,[1]第一考场!B$1:G$65536,6,0) -> 70.07
A100: 97 | B100: 付梅 | C100: 07 | D100: 药房工作人员 | E100: =VLOOKUP(B100,[1]第一考场!B$1:G$65536,6,0) -> 66.29
A101: 98 | B101: 焦淳恩 | C101: 07 | D101: 药房工作人员 | E101: 缺考
A102: 99 | B102: 晏清明 | C102: 08 | D102: 康复治疗师 | E102: =VLOOKUP(B102,[1]第一考场!B$1:G$65536,6,0) -> 73.93
A103: 100 | B103: 安雪松 | C103: 08 | D103: 康复治疗师 | E103: =VLOOKUP(B103,[1]第一考场!B$1:G$65536,6,0) -> 73.93
A104: 101 | B104: 冉容容 | C104: 08 | D104: 康复治疗师 | E104: =VLOOKUP(B104,[1]第一考场!B$1:G$65536,6,0) -> 72.8
A105: 102 | B105: 胡会 | C105: 08 | D105: 康复治疗师 | E105: =VLOOKUP(B105,[1]第一考场!B$1:G$65536,6,0) -> 72.2
A106: 103 | B106: 宋艳娟 | C106: 08 | D106: 康复治疗师 | E106: =VLOOKUP(B106,[1]第一考场!B$1:G$65536,6,0) -> 71.5
A107: 104 | B107: 谭羽露 | C107: 08 | D107: 康复治疗师 | E107: =VLOOKUP(B107,[1]第一考场!B$1:G$65536,6,0) -> 71.36
A108: 105 | B108: 董庭亭 | C108: 08 | D108: 康复治疗师 | E108: 缺考
A109: 106 | B109: 张飞 | C109: 08 | D109: 康复治疗师 | E109: 缺考
A110: 107 | B110: 熊琴 | C110: 08 | D110: 康复治疗师 | E110: 缺考
A111: 108 | B111: 王琴琴 | C111: 08 | D111: 康复治疗师 | E111: 缺考
A112: 109 | B112: 赵丽琴 | C112: 09 | D112: 财务人员 | E112: =VLOOKUP(B112,[1]第一考场!B$1:G$65536,6,0) -> 79
A113: 110 | B113: 朱江 | C113: 09 | D113: 财务人员 | E113: =VLOOKUP(B113,[1]第一考场!B$1:G$65536,6,0) -> 79
A114: 111 | B114: 田圆圆 | C114: 09 | D114: 财务人员 | E114: =VLOOKUP(B114,[1]第一考场!B$1:G$65536,6,0) -> 76.67
A115: 112 | B115: 龙成容 | C115: 09 | D115: 财务人员 | E115: =VLOOKUP(B115,[1]第一考场!B$1:G$65536,6,0) -> 66.67
A116: 113 | B116: 徐博雅 | C116: 09 | D116: 财务人员 | E116: 缺考
A117: 114 | B117: 赵小智 | C117: 10 | D117: 行政工作人员 | E117: =VLOOKUP(B117,[1]第一考场!B$1:G$65536,6,0) -> 87.2
A118: 115 | B118: 郑琴 | C118: 10 | D118: 行政工作人员 | E118: =VLOOKUP(B118,[1]第一考场!B$1:G$65536,6,0) -> 85.83
A119: 116 | B119: 杨琴 | C119: 10 | D119: 行政工作人员 | E119: =VLOOKUP(B119,[1]第一考场!B$1:G$65536,6,0) -> 85.73
A120: 117 | B120: 赵佳燕 | C120: 10 | D120: 行政工作人员 | E120: =VLOOKUP(B120,[1]第一考场!B$1:G$65536,6,0) -> 85.67
A121: 118 | B121: 李洁 | C121: 10 | D121: 行政工作人员 | E121: =VLOOKUP(B121,[1]第一考场!B$1:G$65536,6,0) -> 85.33
A122: 119 | B122: 杨谢谢 | C122: 10 | D122: 行政工作人员 | E122: =VLOOKUP(B122,[1]第一考场!B$1:G$65536,6,0) -> 84
A123: 120 | B123: 张妮 | C123: 10 | D123: 行政工作人员 | E123: =VLOOKUP(B123,[1]第一考场!B$1:G$65536,6,0) -> 81.1
A124: 121 | B124: 刘月寒 | C124: 10 | D124: 行政工作人员 | E124: =VLOOKUP(B124,[1]第一考场!B$1:G$65536,6,0) -> 80.67
A125: 122 | B125: 陈秋芳 | C125: 10 | D125: 行政工作人员 | E125: =VLOOKUP(B125,[1]第一考场!B$1:G$65536,6,0) -> 74.33
A126: 123 | B126: 杨芳 | C126: 10 | D126: 行政工作人员 | E126: =VLOOKUP(B126,[1]第一考场!B$1:G$65536,6,0) -> 72.23
A127: 124 | B127: 郑达峰 | C127: 10 | D127: 行政工作人员 | E127: =VLOOKUP(B127,[1]第一考场!B$1:G$65536,6,0) -> 72.17
A128: 125 | B128: 张兆宏 | C128: 10 | D128: 行政工作人员 | E128: 缺考
